BEGIN:VCALENDAR
VERSION:2.0
PRODID:-//Tombstone Brewing Company - ECPv6.15.20//NONSGML v1.0//EN
CALSCALE:GREGORIAN
METHOD:PUBLISH
X-WR-CALNAME:Tombstone Brewing Company
X-ORIGINAL-URL:https://tombstone.beer
X-WR-CALDESC:Events for Tombstone Brewing Company
REFRESH-INTERVAL;VALUE=DURATION:PT1H
X-Robots-Tag:noindex
X-PUBLISHED-TTL:PT1H
BEGIN:VTIMEZONE
TZID:America/Phoenix
BEGIN:STANDARD
TZOFFSETFROM:-0700
TZOFFSETTO:-0700
TZNAME:MST
DTSTART:20230101T000000
END:STANDARD
END:VTIMEZONE
BEGIN:VEVENT
DTSTART;TZID=America/Phoenix:20240214T180000
DTEND;TZID=America/Phoenix:20240214T200000
DTSTAMP:20260422T040300
CREATED:20240205T220148Z
LAST-MODIFIED:20240205T220148Z
UID:2211-1707933600-1707940800@tombstone.beer
SUMMARY:Cheese and Beer Pairing Tombstone Brewing North 2/14/2024
DESCRIPTION:
URL:https://tombstone.beer/events/cheese-and-beer-pairing-tombstone-brewing-north-2-14-2024/
LOCATION:TBC North\, 3935 E Thomas Rd\, Phoenix\, AZ\, 85108\, United States
ATTACH;FMTTYPE=image/jpeg:https://tombstone.beer/wp-content/uploads/2024/02/Screenshot_20240205_145718_Instagram.jpg
END:VEVENT
END:VCALENDAR