BEGIN:VCALENDAR
VERSION:2.0
PRODID:-//Tombstone Brewing Company - ECPv6.15.20//NONSGML v1.0//EN
CALSCALE:GREGORIAN
METHOD:PUBLISH
X-WR-CALNAME:Tombstone Brewing Company
X-ORIGINAL-URL:https://tombstone.beer
X-WR-CALDESC:Events for Tombstone Brewing Company
REFRESH-INTERVAL;VALUE=DURATION:PT1H
X-Robots-Tag:noindex
X-PUBLISHED-TTL:PT1H
BEGIN:VTIMEZONE
TZID:America/Phoenix
BEGIN:STANDARD
TZOFFSETFROM:-0700
TZOFFSETTO:-0700
TZNAME:MST
DTSTART:20250101T000000
END:STANDARD
END:VTIMEZONE
BEGIN:VEVENT
DTSTART;TZID=America/Phoenix:20260503T130000
DTEND;TZID=America/Phoenix:20260503T160000
DTSTAMP:20260425T173456
CREATED:20240717T220304Z
LAST-MODIFIED:20260424T173747Z
UID:2531-1777813200-1777824000@tombstone.beer
SUMMARY:Dustoff Duo @ TBC - Tombstone
DESCRIPTION:If you’re gonna play in Tombstone\, Ya gotta have a fiddle in the band!\nCome on in and relax on the patio\, with a cold brew\, lunch from Dick’s Diner\, and great music from Dustoff Duo! \nYou won’t be disappointed.
URL:https://tombstone.beer/events/fiddle-flattop-tbc-tombstone-5-3-26/
LOCATION:TBC Tombstone\, 107 E Toughnut\, Tombstone\, AZ\, 85638\, United States
ATTACH;FMTTYPE=image/jpeg:https://tombstone.beer/wp-content/uploads/2024/07/Dustoff-Duo.jpeg
END:VEVENT
BEGIN:VEVENT
DTSTART;TZID=America/Phoenix:20260509T140000
DTEND;TZID=America/Phoenix:20260509T170000
DTSTAMP:20260425T173456
CREATED:20250315T142126Z
LAST-MODIFIED:20260425T183319Z
UID:2683-1778335200-1778346000@tombstone.beer
SUMMARY:Jody Rush @ TBC - Tombstone!
DESCRIPTION:Acoustic 70’s and 80’s Rock\, Cold craft beer\, great friends\, and a delicious lunch!\nDon’t miss Jody Rush at TBC – Tombstone!!
URL:https://tombstone.beer/events/jody-rush-tbc-tombstone-5-9-26/
LOCATION:TBC Tombstone\, 107 E Toughnut\, Tombstone\, AZ\, 85638\, United States
ATTACH;FMTTYPE=image/jpeg:https://tombstone.beer/wp-content/uploads/2025/03/Jody-Rush-1.jpeg
END:VEVENT
BEGIN:VEVENT
DTSTART;TZID=America/Phoenix:20260510T140000
DTEND;TZID=America/Phoenix:20260510T170000
DTSTAMP:20260425T173456
CREATED:20260425T185632Z
LAST-MODIFIED:20260425T185632Z
UID:2803-1778421600-1778432400@tombstone.beer
SUMMARY:The Michael Hargis Show @ TBC Tombstone
DESCRIPTION:Rolling with the Flow to Country\, Standards\, 50’s/60’s\, and Pop!! \nGet yourself a cold\, craft beer\, hot lunch\, and join us on the patio for some great classic music!
URL:https://tombstone.beer/events/the-michael-hargis-show-tbc-tombstone-5-10-26/
LOCATION:TBC Tombstone\, 107 E Toughnut\, Tombstone\, AZ\, 85638\, United States
ATTACH;FMTTYPE=image/jpeg:https://tombstone.beer/wp-content/uploads/2026/04/The-Michael-Hargis-Show.jpeg
END:VEVENT
BEGIN:VEVENT
DTSTART;TZID=America/Phoenix:20260516T140000
DTEND;TZID=America/Phoenix:20260516T170000
DTSTAMP:20260425T173456
CREATED:20240619T185913Z
LAST-MODIFIED:20260425T185847Z
UID:2410-1778940000-1778950800@tombstone.beer
SUMMARY:Those Dudes @ TBC-Tombstone
DESCRIPTION:You heard it correctly! Those Dudes are going to be performing at TBC-Tombstone!\nGet ya a cold beer\, a seat on the patio\, and ready to have a great afternoon with this band!
URL:https://tombstone.beer/events/those-dudes-tbc-tombstone-5-16-26/
LOCATION:TBC Tombstone\, 107 E Toughnut\, Tombstone\, AZ\, 85638\, United States
ATTACH;FMTTYPE=image/jpeg:https://tombstone.beer/wp-content/uploads/2024/06/Those-Dudes.jpeg
END:VEVENT
BEGIN:VEVENT
DTSTART;TZID=America/Phoenix:20260517T140000
DTEND;TZID=America/Phoenix:20260517T170000
DTSTAMP:20260425T173456
CREATED:20250409T193712Z
LAST-MODIFIED:20260425T190438Z
UID:2702-1779026400-1779037200@tombstone.beer
SUMMARY:Freddie Martinez @ TBC - Tombstone
DESCRIPTION:Nothing much beats a cold beer\, tasty food\, good friends and live music!\nCome spend an afternoon with us\, and check out the classic country/rock sounds of Freddie Martinez!!
URL:https://tombstone.beer/events/nightlife-duo-tbc-tombstone-5-17-26/
LOCATION:TBC Tombstone\, 107 E Toughnut\, Tombstone\, AZ\, 85638\, United States
ATTACH;FMTTYPE=image/jpeg:https://tombstone.beer/wp-content/uploads/2025/04/Freddie-Martinez.jpg
END:VEVENT
BEGIN:VEVENT
DTSTART;TZID=America/Phoenix:20260523T130000
DTEND;TZID=America/Phoenix:20260523T180000
DTSTAMP:20260425T173456
CREATED:20240619T202435Z
LAST-MODIFIED:20260425T190624Z
UID:2425-1779541200-1779559200@tombstone.beer
SUMMARY:Levi Creek @ TBC-Tombstone
DESCRIPTION:Join us on the patio for a cold beer\, lunch from Dick’s Dogs\, and the classic country sound of Levi Creek!
URL:https://tombstone.beer/events/levi-creek-tbc-tombstone-5-23-26/
LOCATION:TBC Tombstone\, 107 E Toughnut\, Tombstone\, AZ\, 85638\, United States
ATTACH;FMTTYPE=image/jpeg:https://tombstone.beer/wp-content/uploads/2022/10/levi-creek.jpg
END:VEVENT
BEGIN:VEVENT
DTSTART;TZID=America/Phoenix:20260524T140000
DTEND;TZID=America/Phoenix:20260524T170000
DTSTAMP:20260425T173456
CREATED:20260425T191807Z
LAST-MODIFIED:20260425T191807Z
UID:2809-1779631200-1779642000@tombstone.beer
SUMMARY:Lynn Kelley @ TBC - Tombstone!
DESCRIPTION:Cold craft beer\, good food\, great friends\, and Lynn Kelley knockin’ out the hits!! \nCome on out and spend the afternoon with us! \nWho could ask for more?
URL:https://tombstone.beer/events/lynn-kelley-tbc-tombstone-5-24-26/
LOCATION:TBC Tombstone\, 107 E Toughnut\, Tombstone\, AZ\, 85638\, United States
ATTACH;FMTTYPE=image/jpeg:https://tombstone.beer/wp-content/uploads/2026/04/Lynn-Kelley-2.jpg
END:VEVENT
BEGIN:VEVENT
DTSTART;TZID=America/Phoenix:20260530T140000
DTEND;TZID=America/Phoenix:20260530T170000
DTSTAMP:20260425T173456
CREATED:20250905T192119Z
LAST-MODIFIED:20260425T194058Z
UID:2689-1780149600-1780160400@tombstone.beer
SUMMARY:Luna Worldcast @ TBC - Tombstone
DESCRIPTION:If you missed her the last time she was here…Now is your chance!! \nLuna Worldcast will be back in town and performing at TBC – Tombstone! \nGet yourself a cold craft beer\, a great meal from Dick’s Diner\, and a seat on our patio…You don’t want to miss this!
URL:https://tombstone.beer/events/luna-worldcast-tbc-tombstone-5-30-26/
LOCATION:TBC Tombstone\, 107 E Toughnut\, Tombstone\, AZ\, 85638\, United States
ATTACH;FMTTYPE=image/jpeg:https://tombstone.beer/wp-content/uploads/2025/09/Luna-Worldcast.jpeg
END:VEVENT
BEGIN:VEVENT
DTSTART;TZID=America/Phoenix:20260531T140000
DTEND;TZID=America/Phoenix:20260531T170000
DTSTAMP:20260425T173456
CREATED:20240717T215235Z
LAST-MODIFIED:20260425T194757Z
UID:2527-1780236000-1780246800@tombstone.beer
SUMMARY:Uncommon Crossroads @ TBC - Tombstone
DESCRIPTION:Classic Americana! Spend an afternoon with a cold brew\, a great lunch\, and this amazing artist!
URL:https://tombstone.beer/events/uncommon-crossroads-tbc-tombstone-5-31-26/
LOCATION:TBC Tombstone\, 107 E Toughnut\, Tombstone\, AZ\, 85638\, United States
ATTACH;FMTTYPE=image/png:https://tombstone.beer/wp-content/uploads/2024/07/Uncommon-Crossroads-2026.png
END:VEVENT
END:VCALENDAR