BEGIN:VCALENDAR
VERSION:2.0
PRODID:-//Tombstone Brewing Company - ECPv6.15.20//NONSGML v1.0//EN
CALSCALE:GREGORIAN
METHOD:PUBLISH
X-WR-CALNAME:Tombstone Brewing Company
X-ORIGINAL-URL:https://tombstone.beer
X-WR-CALDESC:Events for Tombstone Brewing Company
REFRESH-INTERVAL;VALUE=DURATION:PT1H
X-Robots-Tag:noindex
X-PUBLISHED-TTL:PT1H
BEGIN:VTIMEZONE
TZID:America/Phoenix
BEGIN:STANDARD
TZOFFSETFROM:-0700
TZOFFSETTO:-0700
TZNAME:MST
DTSTART:20250101T000000
END:STANDARD
END:VTIMEZONE
BEGIN:VEVENT
DTSTART;TZID=America/Phoenix:20260329T140000
DTEND;TZID=America/Phoenix:20260329T170000
DTSTAMP:20260422T184019
CREATED:20250608T195427Z
LAST-MODIFIED:20260209T165008Z
UID:2722-1774792800-1774803600@tombstone.beer
SUMMARY:Ricci Hardt @ TBC - Tombstone
DESCRIPTION:Ricci Hardt\, (yep…that one) will be playing our venue again!!\nWho knows what awesomeness he will bring this time\, but anyone that knows him will tell you it’s gonna be great!\nJoin us on the patio for cold craft beer\, lunch at Dick’s Diner\, and an afternoon of fun with Ricci Hardt!!
URL:https://tombstone.beer/events/ricci-hardt-tbc-tombstone-3-29-26/
LOCATION:TBC Tombstone\, 107 E Toughnut\, Tombstone\, AZ\, 85638\, United States
ATTACH;FMTTYPE=image/jpeg:https://tombstone.beer/wp-content/uploads/2025/06/Ricci-Hardt-7-13-25-scaled.jpeg
END:VEVENT
BEGIN:VEVENT
DTSTART;TZID=America/Phoenix:20260425T140000
DTEND;TZID=America/Phoenix:20260425T170000
DTSTAMP:20260422T184019
CREATED:20250409T201105Z
LAST-MODIFIED:20260422T205425Z
UID:2706-1777125600-1777136400@tombstone.beer
SUMMARY:Jody Rush at TBC - Tombstone
DESCRIPTION:Join us on the patio for a great mix of classic music\, cold craft beer\, and lunch from Dick’s Diner!
URL:https://tombstone.beer/events/jody-rush-at-tbc-tombstone-4-25-26/
LOCATION:TBC Tombstone\, 107 E Toughnut\, Tombstone\, AZ\, 85638\, United States
END:VEVENT
BEGIN:VEVENT
DTSTART;TZID=America/Phoenix:20260426T140000
DTEND;TZID=America/Phoenix:20260426T170000
DTSTAMP:20260422T184019
CREATED:20240619T191325Z
LAST-MODIFIED:20260422T205140Z
UID:2415-1777212000-1777222800@tombstone.beer
SUMMARY:Uncommon Crossroads @ TBC-Tombstone
DESCRIPTION:Classic Americana! Spend an afternoon with a cold craft beer\, lunch at Dick’s Diner\, and this amazing performer! \nhttps://www.facebook.com/mareetheband
URL:https://tombstone.beer/events/uncommon-crossroads-tbc-tombstone-4-26-26/
LOCATION:TBC Tombstone\, 107 E Toughnut\, Tombstone\, AZ\, 85638\, United States
ATTACH;FMTTYPE=image/png:https://tombstone.beer/wp-content/uploads/2024/06/Yellow-Pink-Old-Live-Music-Flyer_20260413_170403_0000.png
END:VEVENT
END:VCALENDAR