BEGIN:VCALENDAR
VERSION:2.0
PRODID:-//Tombstone Brewing Company - ECPv6.15.20//NONSGML v1.0//EN
CALSCALE:GREGORIAN
METHOD:PUBLISH
X-WR-CALNAME:Tombstone Brewing Company
X-ORIGINAL-URL:https://tombstone.beer
X-WR-CALDESC:Events for Tombstone Brewing Company
REFRESH-INTERVAL;VALUE=DURATION:PT1H
X-Robots-Tag:noindex
X-PUBLISHED-TTL:PT1H
BEGIN:VTIMEZONE
TZID:America/Phoenix
BEGIN:STANDARD
TZOFFSETFROM:-0700
TZOFFSETTO:-0700
TZNAME:MST
DTSTART:20230101T000000
END:STANDARD
END:VTIMEZONE
BEGIN:VEVENT
DTSTART;TZID=America/Phoenix:20240203T130000
DTEND;TZID=America/Phoenix:20240203T170000
DTSTAMP:20260421T074211
CREATED:20240108T201445Z
LAST-MODIFIED:20240108T205952Z
UID:2183-1706965200-1706979600@tombstone.beer
SUMMARY:Levi Creek @ TBC - Tombstone
DESCRIPTION:
URL:https://tombstone.beer/events/levi-creek-tbc-tombstone-2-3-24/
LOCATION:TBC Tombstone\, 107 E Toughnut\, Tombstone\, AZ\, 85638\, United States
ATTACH;FMTTYPE=image/jpeg:https://tombstone.beer/wp-content/uploads/2022/10/levi-creek.jpg
END:VEVENT
BEGIN:VEVENT
DTSTART;TZID=America/Phoenix:20240206T190000
DTEND;TZID=America/Phoenix:20240206T210000
DTSTAMP:20260421T074211
CREATED:20240131T215945Z
LAST-MODIFIED:20240205T220400Z
UID:2199-1707246000-1707253200@tombstone.beer
SUMMARY:Tuesday Night Trivia Tombstone Brewing North
DESCRIPTION:Tuesday Night Trivia with Host Adam from Perfect Jamz Productions 7pm-9pm \nPrizes awarded for the top 3 Winning Teams!
URL:https://tombstone.beer/events/tuesday-night-trivia/
LOCATION:TBC North\, 3935 E Thomas Rd\, Phoenix\, AZ\, 85108\, United States
END:VEVENT
BEGIN:VEVENT
DTSTART;TZID=America/Phoenix:20240208T190000
DTEND;TZID=America/Phoenix:20240208T210000
DTSTAMP:20260421T074211
CREATED:20240205T214634Z
LAST-MODIFIED:20240205T220316Z
UID:2208-1707418800-1707426000@tombstone.beer
SUMMARY:Superbowl Trivia 2/8/2024 Tombstone North
DESCRIPTION:
URL:https://tombstone.beer/events/superbowl-trivia-2-8-2024/
LOCATION:TBC North\, 3935 E Thomas Rd\, Phoenix\, AZ\, 85108\, United States
ATTACH;FMTTYPE=image/jpeg:https://tombstone.beer/wp-content/uploads/2024/02/Vince-Lombardi-1967.jpeg
END:VEVENT
BEGIN:VEVENT
DTSTART;TZID=America/Phoenix:20240210T140000
DTEND;TZID=America/Phoenix:20240210T170000
DTSTAMP:20260421T074211
CREATED:20240207T192630Z
LAST-MODIFIED:20240207T192630Z
UID:2221-1707573600-1707584400@tombstone.beer
SUMMARY:Tamara Dee @ TBC - Tombstone
DESCRIPTION:Join us for Tamara’s debut here at TBC – Tombstone!
URL:https://tombstone.beer/events/tamara-dee-tbc-tombstone-2-10-24/
LOCATION:TBC Tombstone\, 107 E Toughnut\, Tombstone\, AZ\, 85638\, United States
ATTACH;FMTTYPE=image/jpeg:https://tombstone.beer/wp-content/uploads/2024/02/Tamara-Dee.jpg
END:VEVENT
BEGIN:VEVENT
DTSTART;TZID=America/Phoenix:20240214T180000
DTEND;TZID=America/Phoenix:20240214T200000
DTSTAMP:20260421T074211
CREATED:20240205T220148Z
LAST-MODIFIED:20240205T220148Z
UID:2211-1707933600-1707940800@tombstone.beer
SUMMARY:Cheese and Beer Pairing Tombstone Brewing North 2/14/2024
DESCRIPTION:
URL:https://tombstone.beer/events/cheese-and-beer-pairing-tombstone-brewing-north-2-14-2024/
LOCATION:TBC North\, 3935 E Thomas Rd\, Phoenix\, AZ\, 85108\, United States
ATTACH;FMTTYPE=image/jpeg:https://tombstone.beer/wp-content/uploads/2024/02/Screenshot_20240205_145718_Instagram.jpg
END:VEVENT
BEGIN:VEVENT
DTSTART;TZID=America/Phoenix:20240218T130000
DTEND;TZID=America/Phoenix:20240218T160000
DTSTAMP:20260421T074211
CREATED:20240207T194537Z
LAST-MODIFIED:20240207T194537Z
UID:2225-1708261200-1708272000@tombstone.beer
SUMMARY:The Band Wanted @ TBC - Tombstone
DESCRIPTION:Telling their story one song at a time.
URL:https://tombstone.beer/events/the-band-wanted-tbc-tombstone-2-18-24/
LOCATION:TBC Tombstone\, 107 E Toughnut\, Tombstone\, AZ\, 85638\, United States
ATTACH;FMTTYPE=image/jpeg:https://tombstone.beer/wp-content/uploads/2024/02/The-Band-Wanted.jpg
END:VEVENT
BEGIN:VEVENT
DTSTART;TZID=America/Phoenix:20240220T180000
DTEND;TZID=America/Phoenix:20240220T210000
DTSTAMP:20260421T074211
CREATED:20240219T170737Z
LAST-MODIFIED:20240219T170737Z
UID:2229-1708452000-1708462800@tombstone.beer
SUMMARY:Quizley Trivia (TBC West End)
DESCRIPTION:Join us for an evening of Trivia\, Brain Teasers\, Picture Puzzles and Word Scrambles. Prizes await!!
URL:https://tombstone.beer/events/quizley-trivia-tbc-west-end/
LOCATION:AZ
ATTACH;FMTTYPE=image/jpeg:https://tombstone.beer/wp-content/uploads/2024/02/Tombstone_Flyer.jpg
END:VEVENT
BEGIN:VEVENT
DTSTART;TZID=America/Phoenix:20240223T180000
DTEND;TZID=America/Phoenix:20240223T210000
DTSTAMP:20260421T074211
CREATED:20240205T210746Z
LAST-MODIFIED:20240205T211002Z
UID:2201-1708711200-1708722000@tombstone.beer
SUMMARY:GedaLife at Tombstone Brewing North 2/23/2024
DESCRIPTION:
URL:https://tombstone.beer/events/gedalife-2-23-2024/
LOCATION:TBC North\, 3935 E Thomas Rd\, Phoenix\, AZ\, 85108\, United States
ATTACH;FMTTYPE=image/jpeg:https://tombstone.beer/wp-content/uploads/2024/02/tombstone1.jpg
END:VEVENT
END:VCALENDAR