BEGIN:VCALENDAR
VERSION:2.0
PRODID:-//Tombstone Brewing Company - ECPv6.15.20//NONSGML v1.0//EN
CALSCALE:GREGORIAN
METHOD:PUBLISH
X-ORIGINAL-URL:https://tombstone.beer
X-WR-CALDESC:Events for Tombstone Brewing Company
REFRESH-INTERVAL;VALUE=DURATION:PT1H
X-Robots-Tag:noindex
X-PUBLISHED-TTL:PT1H
BEGIN:VTIMEZONE
TZID:America/Phoenix
BEGIN:STANDARD
TZOFFSETFROM:-0700
TZOFFSETTO:-0700
TZNAME:MST
DTSTART:20240101T000000
END:STANDARD
END:VTIMEZONE
BEGIN:VEVENT
DTSTART;TZID=America/Phoenix:20250208T180000
DTEND;TZID=America/Phoenix:20250208T210000
DTSTAMP:20260421T070435
CREATED:20250204T201943Z
LAST-MODIFIED:20250204T201943Z
UID:2663-1739037600-1739048400@tombstone.beer
SUMMARY:Sean Knight @ TBC North 2/8
DESCRIPTION:Join us on Saturday\, February 8th to welcome back Sean Knight! Sean plays acoustic rock covers from the 1960’s to now. Show starts 6-9 and free as always.
URL:https://tombstone.beer/events/sean-knight-tbc-north-2-8/
LOCATION:TBC North\, 3935 E Thomas Rd\, Phoenix\, AZ\, 85108\, United States
END:VEVENT
END:VCALENDAR