BEGIN:VCALENDAR
VERSION:2.0
PRODID:-//Tombstone Brewing Company - ECPv6.15.20//NONSGML v1.0//EN
CALSCALE:GREGORIAN
METHOD:PUBLISH
X-WR-CALNAME:Tombstone Brewing Company
X-ORIGINAL-URL:https://tombstone.beer
X-WR-CALDESC:Events for Tombstone Brewing Company
REFRESH-INTERVAL;VALUE=DURATION:PT1H
X-Robots-Tag:noindex
X-PUBLISHED-TTL:PT1H
BEGIN:VTIMEZONE
TZID:America/Phoenix
BEGIN:STANDARD
TZOFFSETFROM:-0700
TZOFFSETTO:-0700
TZNAME:MST
DTSTART:20240101T000000
END:STANDARD
END:VTIMEZONE
BEGIN:VEVENT
DTSTART;TZID=America/Phoenix:20250216T130000
DTEND;TZID=America/Phoenix:20250216T160000
DTSTAMP:20260421T093945
CREATED:20250204T203635Z
LAST-MODIFIED:20250204T203635Z
UID:2667-1739710800-1739721600@tombstone.beer
SUMMARY:Richard Marx Band @ TBC North 2/16
DESCRIPTION:Our buddies the Richard Marx Band is back on Sunday February 16th from 1-4! This will be a daytime show with some fun Americana style covers as well as some of their original music.
URL:https://tombstone.beer/events/richard-marx-band-tbc-north-2-16/
LOCATION:TBC North\, 3935 E Thomas Rd\, Phoenix\, AZ\, 85108\, United States
END:VEVENT
END:VCALENDAR