BEGIN:VCALENDAR
VERSION:2.0
PRODID:-//Tombstone Brewing Company - ECPv6.15.20//NONSGML v1.0//EN
CALSCALE:GREGORIAN
METHOD:PUBLISH
X-ORIGINAL-URL:https://tombstone.beer
X-WR-CALDESC:Events for Tombstone Brewing Company
REFRESH-INTERVAL;VALUE=DURATION:PT1H
X-Robots-Tag:noindex
X-PUBLISHED-TTL:PT1H
BEGIN:VTIMEZONE
TZID:America/Phoenix
BEGIN:STANDARD
TZOFFSETFROM:-0700
TZOFFSETTO:-0700
TZNAME:MST
DTSTART:20250101T000000
END:STANDARD
END:VTIMEZONE
BEGIN:VEVENT
DTSTART;TZID=America/Phoenix:20260425T140000
DTEND;TZID=America/Phoenix:20260425T170000
DTSTAMP:20260423T003750
CREATED:20250409T201105Z
LAST-MODIFIED:20260422T205425Z
UID:2706-1777125600-1777136400@tombstone.beer
SUMMARY:Jody Rush at TBC - Tombstone
DESCRIPTION:Join us on the patio for a great mix of classic music\, cold craft beer\, and lunch from Dick’s Diner!
URL:https://tombstone.beer/events/jody-rush-at-tbc-tombstone-4-25-26/
LOCATION:TBC Tombstone\, 107 E Toughnut\, Tombstone\, AZ\, 85638\, United States
END:VEVENT
END:VCALENDAR