BEGIN:VCALENDAR
VERSION:2.0
PRODID:-//Tombstone Brewing Company - ECPv6.15.20//NONSGML v1.0//EN
CALSCALE:GREGORIAN
METHOD:PUBLISH
X-WR-CALNAME:Tombstone Brewing Company
X-ORIGINAL-URL:https://tombstone.beer
X-WR-CALDESC:Events for Tombstone Brewing Company
REFRESH-INTERVAL;VALUE=DURATION:PT1H
X-Robots-Tag:noindex
X-PUBLISHED-TTL:PT1H
BEGIN:VTIMEZONE
TZID:America/Phoenix
BEGIN:STANDARD
TZOFFSETFROM:-0700
TZOFFSETTO:-0700
TZNAME:MST
DTSTART:20230101T000000
END:STANDARD
END:VTIMEZONE
BEGIN:VEVENT
DTSTART;TZID=America/Phoenix:20240702T190000
DTEND;TZID=America/Phoenix:20240702T210000
DTSTAMP:20260421T231042
CREATED:20240625T194832Z
LAST-MODIFIED:20240627T235254Z
UID:2446-1719946800-1719954000@tombstone.beer
SUMMARY:Trivia & Tacos - TBC North - July 2nd 2024
DESCRIPTION:Free Trivia hosted by Quiz Master Adam. Enjoy $2 off 3 tacos and some refreshing beer. Bring out your friends and challenge yourselves to a good time!
URL:https://tombstone.beer/events/trivia-tacos-tbc-north-july-2nd-2024/
LOCATION:TBC North\, 3935 E Thomas Rd\, Phoenix\, AZ\, 85108\, United States
ATTACH;FMTTYPE=image/png:https://tombstone.beer/wp-content/uploads/2024/06/Trivia-Flyers.png
END:VEVENT
BEGIN:VEVENT
DTSTART;VALUE=DATE:20240703
DTEND;VALUE=DATE:20240704
DTSTAMP:20260421T231042
CREATED:20240626T192048Z
LAST-MODIFIED:20240626T192048Z
UID:2457-1719964800-1720051199@tombstone.beer
SUMMARY:Industry Night at Tombstone Brewing North! - July 3rd - TBC North
DESCRIPTION:Every Wednesday\, we celebrate the Food & Beverage Industry by offering a 20% discount on their tabs! Enjoy games\, sports\, music\, and great company!
URL:https://tombstone.beer/events/industry-night-at-tombstone-brewing-north-july-3rd-tbc-north/
LOCATION:AZ
ATTACH;FMTTYPE=image/jpeg:https://tombstone.beer/wp-content/uploads/2024/06/3033-OS_Cheers.jpg
END:VEVENT
BEGIN:VEVENT
DTSTART;TZID=America/Phoenix:20240703T190000
DTEND;TZID=America/Phoenix:20240703T210000
DTSTAMP:20260421T231042
CREATED:20240626T192839Z
LAST-MODIFIED:20240627T234712Z
UID:2459-1720033200-1720040400@tombstone.beer
SUMMARY:Weekly Dart League at Tombstone Brewing North - July 3rd
DESCRIPTION:With respect to 4th of July and watching stuff blow up\, dart league will be held a day early this week! There’s no entry fee\, prizes are up for grabs\, and we’ll have food and drink specials all night. Don’t own a set of darts? We’ve got you covered with sets available for use.
URL:https://tombstone.beer/events/weekly-dart-league-at-tombstone-brewing-north-july-4th/
LOCATION:TBC North\, 3935 E Thomas Rd\, Phoenix\, AZ\, 85108\, United States
END:VEVENT
BEGIN:VEVENT
DTSTART;TZID=America/Phoenix:20240707T140000
DTEND;TZID=America/Phoenix:20240707T170000
DTSTAMP:20260421T231042
CREATED:20240619T190815Z
LAST-MODIFIED:20240619T190815Z
UID:2413-1720360800-1720371600@tombstone.beer
SUMMARY:Tamara Dee @ TBC Tombstone
DESCRIPTION:Ya just can’t go wrong when listening to a girl with her guitar! Grab yourself a brew and have a seat. This lady can sing!
URL:https://tombstone.beer/events/tamara-dee-tbc-tombstone-7-7-24/
LOCATION:TBC Tombstone\, 107 E Toughnut\, Tombstone\, AZ\, 85638\, United States
ATTACH;FMTTYPE=image/jpeg:https://tombstone.beer/wp-content/uploads/2024/02/Tamara-Dee.jpg
END:VEVENT
BEGIN:VEVENT
DTSTART;TZID=America/Phoenix:20240707T170000
DTEND;TZID=America/Phoenix:20240707T210000
DTSTAMP:20260421T231042
CREATED:20240630T231857Z
LAST-MODIFIED:20240630T231857Z
UID:2483-1720371600-1720386000@tombstone.beer
SUMMARY:TBC North Texas Hold 'Em Weekly Tournament - TBC North - July 7th 2024
DESCRIPTION:Test your skills and luck with our weekly Hold ‘Em tournaments. Join us for great food and drink specials and a chance to walk away a winner!  Free poker with an optional $10 buy-in\, cards out at 5pm.
URL:https://tombstone.beer/events/tbc-north-texas-hold-em-weekly-tournament-tbc-north-july-7th-2024/
LOCATION:TBC North\, 3935 E Thomas Rd\, Phoenix\, AZ\, 85108\, United States
ATTACH;FMTTYPE=image/png:https://tombstone.beer/wp-content/uploads/2024/06/Green-and-White-Casino-For-Men-Themes-Instagram-Post-Flyer-5.5-x-8.5.png
END:VEVENT
BEGIN:VEVENT
DTSTART;TZID=America/Phoenix:20240709T190000
DTEND;TZID=America/Phoenix:20240709T220000
DTSTAMP:20260421T231042
CREATED:20240627T235649Z
LAST-MODIFIED:20240627T235649Z
UID:2469-1720551600-1720562400@tombstone.beer
SUMMARY:Trivia and Tacos - TBC North - July 9th 2024
DESCRIPTION:Free Trivia hosted by Quiz Master Adam. Enjoy $2 off 3 tacos and some refreshing beer. Bring out your friends and challenge yourselves to a good time!
URL:https://tombstone.beer/events/trivia-and-tacos-tbc-north-july-9th-2024/
LOCATION:TBC North\, 3935 E Thomas Rd\, Phoenix\, AZ\, 85108\, United States
END:VEVENT
BEGIN:VEVENT
DTSTART;TZID=America/Phoenix:20240711T190000
DTEND;TZID=America/Phoenix:20240711T220000
DTSTAMP:20260421T231042
CREATED:20240628T014925Z
LAST-MODIFIED:20240628T014925Z
UID:2474-1720724400-1720735200@tombstone.beer
SUMMARY:Free Dart League - TBC North - July 11th 2024
DESCRIPTION:Come to Tombstone Brewing for our new dart league! There’s no entry fee\, prizes are up for grabs\, and we’ll have food and drink specials all night. Don’t own a set of darts? We’ve got you covered with sets available for use. Steel Tip!
URL:https://tombstone.beer/events/free-dart-league-tbc-north-july-11th-2024/
LOCATION:TBC North\, 3935 E Thomas Rd\, Phoenix\, AZ\, 85108\, United States
ATTACH;FMTTYPE=image/png:https://tombstone.beer/wp-content/uploads/2024/06/3.png
END:VEVENT
BEGIN:VEVENT
DTSTART;TZID=America/Phoenix:20240714T140000
DTEND;TZID=America/Phoenix:20240714T170000
DTSTAMP:20260421T231042
CREATED:20240619T191811Z
LAST-MODIFIED:20240619T191811Z
UID:2417-1720965600-1720976400@tombstone.beer
SUMMARY:Fiddle & Flattop @ TBC-Tombstone
DESCRIPTION:If you’re gonna play in Tombstone\, Ya gotta have a fiddle in the band!\nCome on in and check out Scott and Marisa\, and relax with a cold brew. You won’t be disappointed.
URL:https://tombstone.beer/events/fiddle-flattop-7-14-24/
LOCATION:TBC Tombstone\, 107 E Toughnut\, Tombstone\, AZ\, 85638\, United States
ATTACH;FMTTYPE=image/jpeg:https://tombstone.beer/wp-content/uploads/2024/01/Fiddle-and-Flattop.jpeg
END:VEVENT
BEGIN:VEVENT
DTSTART;TZID=America/Phoenix:20240714T170000
DTEND;TZID=America/Phoenix:20240714T210000
DTSTAMP:20260421T231042
CREATED:20240630T232211Z
LAST-MODIFIED:20240630T232211Z
UID:2486-1720976400-1720990800@tombstone.beer
SUMMARY:TBC North Weekly Texas Hold 'Em Tournament - TBC North - July 14th 2024
DESCRIPTION:Test your skills and luck with our weekly Hold ‘Em tournaments. Join us for great food and drink specials and a chance to walk away a winner!  Free poker with an optional $10 buy-in\, cards out at 5pm.
URL:https://tombstone.beer/events/tbc-north-weekly-texas-hold-em-tournament-tbc-north-july-14th-2024/
LOCATION:TBC North\, 3935 E Thomas Rd\, Phoenix\, AZ\, 85108\, United States
ATTACH;FMTTYPE=image/png:https://tombstone.beer/wp-content/uploads/2024/06/Green-and-White-Casino-For-Men-Themes-Instagram-Post-Flyer-5.5-x-8.5.png
END:VEVENT
BEGIN:VEVENT
DTSTART;TZID=America/Phoenix:20240721T140000
DTEND;TZID=America/Phoenix:20240721T170000
DTSTAMP:20260421T231042
CREATED:20240619T200601Z
LAST-MODIFIED:20240620T003829Z
UID:2423-1721570400-1721581200@tombstone.beer
SUMMARY:Broke A Biches @ TBC_Tombstone
DESCRIPTION:Their First time at TBC – Tombstone.\nCome join us for a cold beer\, and a great time on the patio.
URL:https://tombstone.beer/events/broke-a-biches-tbc_tombstone-7-21-24/
LOCATION:TBC Tombstone\, 107 E Toughnut\, Tombstone\, AZ\, 85638\, United States
ATTACH;FMTTYPE=image/jpeg:https://tombstone.beer/wp-content/uploads/2024/06/Broke-A-Biches.jpeg
END:VEVENT
END:VCALENDAR