BEGIN:VCALENDAR
VERSION:2.0
PRODID:-//Tombstone Brewing Company - ECPv6.15.20//NONSGML v1.0//EN
CALSCALE:GREGORIAN
METHOD:PUBLISH
X-ORIGINAL-URL:https://tombstone.beer
X-WR-CALDESC:Events for Tombstone Brewing Company
REFRESH-INTERVAL;VALUE=DURATION:PT1H
X-Robots-Tag:noindex
X-PUBLISHED-TTL:PT1H
BEGIN:VTIMEZONE
TZID:America/Phoenix
BEGIN:STANDARD
TZOFFSETFROM:-0700
TZOFFSETTO:-0700
TZNAME:MST
DTSTART:20230101T000000
END:STANDARD
END:VTIMEZONE
BEGIN:VEVENT
DTSTART;TZID=America/Phoenix:20240625T190000
DTEND;TZID=America/Phoenix:20240625T210000
DTSTAMP:20260424T085406
CREATED:20240618T180103Z
LAST-MODIFIED:20240625T194254Z
UID:2401-1719342000-1719349200@tombstone.beer
SUMMARY:Trivia & Tacos - TBC North - June 25th 2024
DESCRIPTION:Free Trivia hosted by Quiz Master Adam. Enjoy $2 off 3 tacos and some refreshing beer. Bring out your friends and challenge yourselves to a good time!
URL:https://tombstone.beer/events/trivia-tacos-tbc-north-june-25th-2024/
LOCATION:TBC North\, 3935 E Thomas Rd\, Phoenix\, AZ\, 85108\, United States
ATTACH;FMTTYPE=image/jpeg:https://tombstone.beer/wp-content/uploads/2024/06/image00001.jpg
END:VEVENT
END:VCALENDAR