BEGIN:VCALENDAR
VERSION:2.0
PRODID:-//Tombstone Brewing Company - ECPv6.15.20//NONSGML v1.0//EN
CALSCALE:GREGORIAN
METHOD:PUBLISH
X-WR-CALNAME:Tombstone Brewing Company
X-ORIGINAL-URL:https://tombstone.beer
X-WR-CALDESC:Events for Tombstone Brewing Company
REFRESH-INTERVAL;VALUE=DURATION:PT1H
X-Robots-Tag:noindex
X-PUBLISHED-TTL:PT1H
BEGIN:VTIMEZONE
TZID:America/Phoenix
BEGIN:STANDARD
TZOFFSETFROM:-0700
TZOFFSETTO:-0700
TZNAME:MST
DTSTART:20230101T000000
END:STANDARD
END:VTIMEZONE
BEGIN:VEVENT
DTSTART;TZID=America/Phoenix:20240711T190000
DTEND;TZID=America/Phoenix:20240711T220000
DTSTAMP:20260424T114549
CREATED:20240628T014925Z
LAST-MODIFIED:20240628T014925Z
UID:2474-1720724400-1720735200@tombstone.beer
SUMMARY:Free Dart League - TBC North - July 11th 2024
DESCRIPTION:Come to Tombstone Brewing for our new dart league! There’s no entry fee\, prizes are up for grabs\, and we’ll have food and drink specials all night. Don’t own a set of darts? We’ve got you covered with sets available for use. Steel Tip!
URL:https://tombstone.beer/events/free-dart-league-tbc-north-july-11th-2024/
LOCATION:TBC North\, 3935 E Thomas Rd\, Phoenix\, AZ\, 85108\, United States
ATTACH;FMTTYPE=image/png:https://tombstone.beer/wp-content/uploads/2024/06/3.png
END:VEVENT
END:VCALENDAR